BEGIN:VCALENDAR
VERSION:2.0
PRODID:-//Silicon Valley Realtor Nancy Dinshaw - ECPv6.14.1//NONSGML v1.0//EN
CALSCALE:GREGORIAN
METHOD:PUBLISH
X-WR-CALNAME:Silicon Valley Realtor Nancy Dinshaw
X-ORIGINAL-URL:https://liveinthebay.com
X-WR-CALDESC:Events for Silicon Valley Realtor Nancy Dinshaw
REFRESH-INTERVAL;VALUE=DURATION:PT1H
X-Robots-Tag:noindex
X-PUBLISHED-TTL:PT1H
BEGIN:VTIMEZONE
TZID:America/Los_Angeles
BEGIN:DAYLIGHT
TZOFFSETFROM:-0800
TZOFFSETTO:-0700
TZNAME:PDT
DTSTART:20220313T100000
END:DAYLIGHT
BEGIN:STANDARD
TZOFFSETFROM:-0700
TZOFFSETTO:-0800
TZNAME:PST
DTSTART:20221106T090000
END:STANDARD
END:VTIMEZONE
BEGIN:VEVENT
DTSTART;TZID=America/Los_Angeles:20220316T090000
DTEND;TZID=America/Los_Angeles:20220430T164500
DTSTAMP:20260421T114255
CREATED:20220316T200313Z
LAST-MODIFIED:20220318T043252Z
UID:10000177-1647421200-1651337100@liveinthebay.com
SUMMARY:Japanese Tea Garden (Golden Gate Park)
DESCRIPTION:Experience the natural beauty\, tranquility and harmony of a Japanese-style garden in the beautiful setting of San Francisco’s Golden Gate Park! \nThe Japanese Tea Garden was originally created as a part of the “Japanese Village” exhibit for the 1894 California Midwinter International Exposition\, making it the oldest public Japanese garden in the US. When the fair closed\, Japanese landscape architect Makoto Hagiwara continued to maintain the garden until 1942 when he and his family were interned during World War II. Today\, the Japanese Tea Garden features an arched drum bridge\, pagodas\, stone lanterns\, stepping stone paths\, native Japanese plants\, serene koi ponds and a Zen garden. Cherry blossom trees bloom throughout the garden in March and April. \nGeneral Admission: Adults $10\, Seniors (ages 65+ w/ID) and Youth $7\, Children (ages 5-11) $3\, Children (under 5) FREE. Discounts for San Francisco residents. \nThe garden is open daily from 9:00am - 4:45pm with last entry at 4:15pm. Enjoy a free hour on Monday\, Wednesday and Friday 9:00am - 10:00am.
URL:https://liveinthebay.com/event/japanese-tea-garden-golden-gate-park/
LOCATION:Japanese Tea Garden (Golden Gate Park)\, 75 Hagiwara Tea Garden Drive\, San Francisco\, CA\, 94118
CATEGORIES:Cherry Blossom Festival
ATTACH;FMTTYPE=image/jpeg:https://liveinthebay.com/wp-content/uploads/2022/03/Japanese-Tea-Garden-SF-1.jpg
END:VEVENT
BEGIN:VEVENT
DTSTART;TZID=America/Los_Angeles:20220429T090000
DTEND;TZID=America/Los_Angeles:20220429T120000
DTSTAMP:20260421T114255
CREATED:20220421T193855Z
LAST-MODIFIED:20220421T233152Z
UID:10000207-1651222800-1651233600@liveinthebay.com
SUMMARY:Arbor Day 2022 - Atherton
DESCRIPTION:The Town of Atherton will be hosting a free Earth Day festival on Friday\, April 29 from 9:00 AM to 12:00 PM at Holbrook-Palmer Park at 150 Watkins Avenue. \n9:00am - 11:00am    TREE PLANTING \n11:00am - 12:00pm  ARBOR-LED TREE WALK \nFor more information\, visit ci.atherton.ca.us. For questions about the event\, email treecommittee@ci.atherton.ca.us.
URL:https://liveinthebay.com/event/arbor-day-2022-atherton/
LOCATION:Holbrook-Palmer Park\, 150 Watkins Ave\, Atherton\, CA
CATEGORIES:Earth Day
ATTACH;FMTTYPE=image/jpeg:https://liveinthebay.com/wp-content/uploads/2022/04/Earth-Day.jpg
END:VEVENT
END:VCALENDAR