BEGIN:VCALENDAR
VERSION:2.0
PRODID:-//Silicon Valley Realtor Nancy Dinshaw - ECPv6.14.1//NONSGML v1.0//EN
CALSCALE:GREGORIAN
METHOD:PUBLISH
X-ORIGINAL-URL:https://liveinthebay.com
X-WR-CALDESC:Events for Silicon Valley Realtor Nancy Dinshaw
REFRESH-INTERVAL;VALUE=DURATION:PT1H
X-Robots-Tag:noindex
X-PUBLISHED-TTL:PT1H
BEGIN:VTIMEZONE
TZID:America/Los_Angeles
BEGIN:DAYLIGHT
TZOFFSETFROM:-0800
TZOFFSETTO:-0700
TZNAME:PDT
DTSTART:20220313T100000
END:DAYLIGHT
BEGIN:STANDARD
TZOFFSETFROM:-0700
TZOFFSETTO:-0800
TZNAME:PST
DTSTART:20221106T090000
END:STANDARD
END:VTIMEZONE
BEGIN:VEVENT
DTSTART;TZID=America/Los_Angeles:20220922T120000
DTEND;TZID=America/Los_Angeles:20220922T180000
DTSTAMP:20260425T170503
CREATED:20220901T203718Z
LAST-MODIFIED:20220903T030904Z
UID:10000260-1663848000-1663869600@liveinthebay.com
SUMMARY:CommonGround Arts Festival
DESCRIPTION:CommonGround is a new biennial festival of place-inspired\, outdoor work hosted in locations throughout Santa Cruz County\, from downtown plazas and nearby waterways to forested hillsides and local landmarks. \nFocused on temporary and performative public art projects in rural\, urban\, and architectural space\, the 10-day event features site-responsive installations and interventions across the area’s natural and built environments\, connecting people\, stories\, and landscapes. \nCommonGround is a mostly FREE event. While the majority of works can be visited at no cost\, some festival performances are ticketed and there is a small admission fee to the MAH to view supporting exhibitions and installations. \nFor more information\, visit the Santa Cruz Museum of Art and History. \n\n\nVenues & Locations \n\nAbbott Square and Museum of Art & History (MAH)\n725 and 705 Front Street\, Santa Cruz\nA public plaza next to a three-floor museum in downtown. \nDavenport Jail\n70 Center Street\, Davenport\nA decommissioned jailhouse and historic landmark built in 1914. \nEvergreen Cemetery\n261 Evergreen Street\, Santa Cruz\nA historic site and one of the state’s first cemeteries founded in 1858. \n\n\nFarmers' Markets\nDowntown Santa Cruz: 700-798 Cedar Street\nWatsonville: Peack and Union Street\nLive Oak: 21511 E Cliff Drive \nSoquel Creek\n124 Cliff Drive\, Capitola\nA coastal stream that flows into Monterey Bay\, near Capitol Beach. \nWagner Grove \n261 Evergreen Street\, Santa Cruz\nA redwood clearing located in Harvey West Park\, near the cemetery.
URL:https://liveinthebay.com/event/commonground-arts-festival/2022-09-22/
LOCATION:Santa Cruz County Fairgrounds
END:VEVENT
BEGIN:VEVENT
DTSTART;TZID=America/Los_Angeles:20220922T170000
DTEND;TZID=America/Los_Angeles:20220922T210000
DTSTAMP:20260425T170503
CREATED:20220902T034131Z
LAST-MODIFIED:20220903T025745Z
UID:10000275-1663866000-1663880400@liveinthebay.com
SUMMARY:Bier! Brezeln! Bratwurst! Oktoberfest Redwood City
DESCRIPTION:Redwood City's premier fall event\, Oktoberfest Downtown Redwood City features a fabulous traditional German Oktoberfest setting - complete with over 1\,100 feet of "family style" bench seating - lots of fun and merriment\, music\, dancing\, contests\, cold beer and other beverages\, food\, and more. The event runs from Wednesday\, September 21 through Sunday\, September 25\, when the huge decked-out Oktoberfest tent transforms Courthouse Square\, for revelers of all ages to enjoy! \nTicket prices range from $10 - $17 for all ages and $16 - $27 for people 21+. This includes a commemorative stein and a drink ticket (beer or soda depending on ticket type). This year brings special VIP\, 6-person table seating\, offered at $255. \nExciting German-style entertainment starts on Wednesday\, September 21 with authentic dance music by Deutscher Musikverein and Nature Friends Schuhplattler\, followed by Alpine Sound Band and Nature Friends Schuhplattler on Thursday\, September 22. Featured on September 23 through September 26 will be The Internationals Band\, and Golden Gate Bavarian Club as dance performers and game hosts. \nDowntown Redwood City's Oktoberfest extravaganza offers authentically delicious German food\, featuring pretzels and brats\, along with enticingly cold beer.  Dancing\, singing\, and tons of audience participation will include dance contests\, stein holding\, yodeling contest\, skits with hand gestures to select songs\, etc.\, not to mention many variations of the "international" chicken dance. \nFor more information and to purchase tickets\, visit the Redwood City website.
URL:https://liveinthebay.com/event/bier-brezeln-bratwurst-oktoberfest-redwood-city/2022-09-22/
LOCATION:Courthouse Square\, 2200 Broadway\, Redwood City\, CA\, 94063
END:VEVENT
END:VCALENDAR