BEGIN:VCALENDAR
VERSION:2.0
PRODID:-//Silicon Valley Realtor Nancy Dinshaw - ECPv6.14.1//NONSGML v1.0//EN
CALSCALE:GREGORIAN
METHOD:PUBLISH
X-ORIGINAL-URL:https://liveinthebay.com
X-WR-CALDESC:Events for Silicon Valley Realtor Nancy Dinshaw
REFRESH-INTERVAL;VALUE=DURATION:PT1H
X-Robots-Tag:noindex
X-PUBLISHED-TTL:PT1H
BEGIN:VTIMEZONE
TZID:America/Los_Angeles
BEGIN:DAYLIGHT
TZOFFSETFROM:-0800
TZOFFSETTO:-0700
TZNAME:PDT
DTSTART:20220313T100000
END:DAYLIGHT
BEGIN:STANDARD
TZOFFSETFROM:-0700
TZOFFSETTO:-0800
TZNAME:PST
DTSTART:20221106T090000
END:STANDARD
END:VTIMEZONE
BEGIN:VEVENT
DTSTART;TZID=America/Los_Angeles:20220924T120000
DTEND;TZID=America/Los_Angeles:20220924T180000
DTSTAMP:20260424T082736
CREATED:20220901T203718Z
LAST-MODIFIED:20220903T030904Z
UID:10000262-1664020800-1664042400@liveinthebay.com
SUMMARY:CommonGround Arts Festival
DESCRIPTION:CommonGround is a new biennial festival of place-inspired\, outdoor work hosted in locations throughout Santa Cruz County\, from downtown plazas and nearby waterways to forested hillsides and local landmarks. \nFocused on temporary and performative public art projects in rural\, urban\, and architectural space\, the 10-day event features site-responsive installations and interventions across the area’s natural and built environments\, connecting people\, stories\, and landscapes. \nCommonGround is a mostly FREE event. While the majority of works can be visited at no cost\, some festival performances are ticketed and there is a small admission fee to the MAH to view supporting exhibitions and installations. \nFor more information\, visit the Santa Cruz Museum of Art and History. \n\n\nVenues & Locations \n\nAbbott Square and Museum of Art & History (MAH)\n725 and 705 Front Street\, Santa Cruz\nA public plaza next to a three-floor museum in downtown. \nDavenport Jail\n70 Center Street\, Davenport\nA decommissioned jailhouse and historic landmark built in 1914. \nEvergreen Cemetery\n261 Evergreen Street\, Santa Cruz\nA historic site and one of the state’s first cemeteries founded in 1858. \n\n\nFarmers' Markets\nDowntown Santa Cruz: 700-798 Cedar Street\nWatsonville: Peack and Union Street\nLive Oak: 21511 E Cliff Drive \nSoquel Creek\n124 Cliff Drive\, Capitola\nA coastal stream that flows into Monterey Bay\, near Capitol Beach. \nWagner Grove \n261 Evergreen Street\, Santa Cruz\nA redwood clearing located in Harvey West Park\, near the cemetery.
URL:https://liveinthebay.com/event/commonground-arts-festival/2022-09-24/
LOCATION:Santa Cruz County Fairgrounds
END:VEVENT
BEGIN:VEVENT
DTSTART;TZID=America/Los_Angeles:20220924T130000
DTEND;TZID=America/Los_Angeles:20220924T220000
DTSTAMP:20260424T082736
CREATED:20220901T233142Z
LAST-MODIFIED:20220901T233156Z
UID:10000265-1664024400-1664056800@liveinthebay.com
SUMMARY:FoodieLand Night Market - San Mateo
DESCRIPTION:What is FoodieLand? You may well ask! It is a 3-day event where family and friends gather together for food and drink\, shopping\, and entertainment. \nFrom EventBrite:\nA SUMMER TO REMEMBER. There is something for everyone at FoodieLand. \nFoodieLand is the perfect outdoor food event for everyone. A must-attend for foodies\, this exclusive festival in the heart of San Mateo is inspired by the Night Markets of Asia. Bring your friends together for late-night sounds\, tastes\, and scents where you can experience a street festival this summer in the Bay Area. Enjoy authentic multicultural street foods\, and many enticing beverages and desserts to please your palette. Don’t miss our bar for your favorite alcoholic beverages. Stop by to participate in a variety of carnival games\, and take in live musical performances by some of your favorite artists and DJs. Shop small and discover talented local artisans from dozens of local booths including jewelry\, clothing\, artistic paintings\, candles\, home decor\, and more. \nImmerse yourself in San Francisco Bay Area’s finest FoodieLand Night Market to eat\, drink\, shop\, and play. Featuring over 150 vendors\, you’ll experience a variety of amazing foods and drinks\, arts\, crafts\, games\, and live entertainment in one great location. FoodieLand is undoubtedly the city’s hottest summer playground. Make it a dream date\, a summer night out with friends\, or a class reunion to remember. Tell your friends\, and save the dates for FoodieLand events for a summer to remember. \nNOTE: Tickets will only be available online through Eventbrite. No tickets will be sold at the door. Please purchase your tickets in advance. \nPre-sale tickets are $7 per person\, children under 5 are admitted for free. $5 early-bird special on Friday between 3-5pm. Parking is $15 / Vehicle. Charged by the venue.
URL:https://liveinthebay.com/event/foodieland-night-market-san-mateo-2/2022-09-24/
LOCATION:San Mateo County Event Center\, 1346 Saratoga Drive\, San Mateo\, CA\, 94403
END:VEVENT
BEGIN:VEVENT
DTSTART;TZID=America/Los_Angeles:20220924T170000
DTEND;TZID=America/Los_Angeles:20220924T210000
DTSTAMP:20260424T082736
CREATED:20220902T034131Z
LAST-MODIFIED:20220903T025745Z
UID:10000277-1664038800-1664053200@liveinthebay.com
SUMMARY:Bier! Brezeln! Bratwurst! Oktoberfest Redwood City
DESCRIPTION:Redwood City's premier fall event\, Oktoberfest Downtown Redwood City features a fabulous traditional German Oktoberfest setting - complete with over 1\,100 feet of "family style" bench seating - lots of fun and merriment\, music\, dancing\, contests\, cold beer and other beverages\, food\, and more. The event runs from Wednesday\, September 21 through Sunday\, September 25\, when the huge decked-out Oktoberfest tent transforms Courthouse Square\, for revelers of all ages to enjoy! \nTicket prices range from $10 - $17 for all ages and $16 - $27 for people 21+. This includes a commemorative stein and a drink ticket (beer or soda depending on ticket type). This year brings special VIP\, 6-person table seating\, offered at $255. \nExciting German-style entertainment starts on Wednesday\, September 21 with authentic dance music by Deutscher Musikverein and Nature Friends Schuhplattler\, followed by Alpine Sound Band and Nature Friends Schuhplattler on Thursday\, September 22. Featured on September 23 through September 26 will be The Internationals Band\, and Golden Gate Bavarian Club as dance performers and game hosts. \nDowntown Redwood City's Oktoberfest extravaganza offers authentically delicious German food\, featuring pretzels and brats\, along with enticingly cold beer.  Dancing\, singing\, and tons of audience participation will include dance contests\, stein holding\, yodeling contest\, skits with hand gestures to select songs\, etc.\, not to mention many variations of the "international" chicken dance. \nFor more information and to purchase tickets\, visit the Redwood City website.
URL:https://liveinthebay.com/event/bier-brezeln-bratwurst-oktoberfest-redwood-city/2022-09-24/
LOCATION:Courthouse Square\, 2200 Broadway\, Redwood City\, CA\, 94063
END:VEVENT
END:VCALENDAR