BEGIN:VCALENDAR
VERSION:2.0
PRODID:-//Silicon Valley Realtor Nancy Dinshaw - ECPv6.14.1//NONSGML v1.0//EN
CALSCALE:GREGORIAN
METHOD:PUBLISH
X-WR-CALNAME:Silicon Valley Realtor Nancy Dinshaw
X-ORIGINAL-URL:https://liveinthebay.com
X-WR-CALDESC:Events for Silicon Valley Realtor Nancy Dinshaw
REFRESH-INTERVAL;VALUE=DURATION:PT1H
X-Robots-Tag:noindex
X-PUBLISHED-TTL:PT1H
BEGIN:VTIMEZONE
TZID:America/Los_Angeles
BEGIN:DAYLIGHT
TZOFFSETFROM:-0800
TZOFFSETTO:-0700
TZNAME:PDT
DTSTART:20220313T100000
END:DAYLIGHT
BEGIN:STANDARD
TZOFFSETFROM:-0700
TZOFFSETTO:-0800
TZNAME:PST
DTSTART:20221106T090000
END:STANDARD
END:VTIMEZONE
BEGIN:VEVENT
DTSTART;TZID=America/Los_Angeles:20221129T180000
DTEND;TZID=America/Los_Angeles:20221129T190000
DTSTAMP:20260421T105638
CREATED:20221126T162823Z
LAST-MODIFIED:20221126T175520Z
UID:10000413-1669744800-1669748400@liveinthebay.com
SUMMARY:Spirit of the Row
DESCRIPTION:Enjoy guest performances by local community groups and schools including excerpts from The Nutcracker too. Spirit of The Row performances take place in Santana Row Park in front of the holiday tree every Tuesday evening starting November 29th through December 20th from 6pm-7pm. \nVisit the website for more details!
URL:https://liveinthebay.com/event/spirit-of-the-row-2/2022-11-29/
LOCATION:Santana Row\, 377 Santana Row\, San Jose\, CA\, 95128
CATEGORIES:Holiday
ATTACH;FMTTYPE=image/jpeg:https://liveinthebay.com/wp-content/uploads/2021/09/Santana-Row.jpg
END:VEVENT
END:VCALENDAR