BEGIN:VCALENDAR
VERSION:2.0
PRODID:-//Silicon Valley Realtor Nancy Dinshaw - ECPv6.14.1//NONSGML v1.0//EN
CALSCALE:GREGORIAN
METHOD:PUBLISH
X-WR-CALNAME:Silicon Valley Realtor Nancy Dinshaw
X-ORIGINAL-URL:https://liveinthebay.com
X-WR-CALDESC:Events for Silicon Valley Realtor Nancy Dinshaw
REFRESH-INTERVAL;VALUE=DURATION:PT1H
X-Robots-Tag:noindex
X-PUBLISHED-TTL:PT1H
BEGIN:VTIMEZONE
TZID:America/Los_Angeles
BEGIN:DAYLIGHT
TZOFFSETFROM:-0800
TZOFFSETTO:-0700
TZNAME:PDT
DTSTART:20240310T100000
END:DAYLIGHT
BEGIN:STANDARD
TZOFFSETFROM:-0700
TZOFFSETTO:-0800
TZNAME:PST
DTSTART:20241103T090000
END:STANDARD
END:VTIMEZONE
BEGIN:VEVENT
DTSTART;TZID=America/Los_Angeles:20240912T120000
DTEND;TZID=America/Los_Angeles:20240912T230000
DTSTAMP:20260421T084148
CREATED:20240904T233132Z
LAST-MODIFIED:20240904T233718Z
UID:10005212-1726142400-1726182000@liveinthebay.com
SUMMARY:Santa Cruz County Fair
DESCRIPTION:The Santa Cruz County Fair is back from September 11-15th\, packed with family fun\, live shows\, animal exhibits\, carnival rides\, and more! \nThis year’s fair combines Pioneer Days and modern attractions\, including an exciting Drone Show\, where 200 drones will light up the sky each night in a dazzling technology display. \nAll your favorite events are returning: the Tractor Parade\, Junior Livestock Auction\, Monster Trucks and Motocross\, Horse Show\, Charras\, and more! Plus\, don’t miss live concerts\, including a Taylor Swift Tribute. \nVisit the County Fair website for the latest entertainment updates!
URL:https://liveinthebay.com/event/santa-cruz-county-fair-2/2024-09-12/
LOCATION:CA
END:VEVENT
END:VCALENDAR