BEGIN:VCALENDAR
VERSION:2.0
PRODID:-//Silicon Valley Realtor Nancy Dinshaw - ECPv6.14.1//NONSGML v1.0//EN
CALSCALE:GREGORIAN
METHOD:PUBLISH
X-ORIGINAL-URL:https://liveinthebay.com
X-WR-CALDESC:Events for Silicon Valley Realtor Nancy Dinshaw
REFRESH-INTERVAL;VALUE=DURATION:PT1H
X-Robots-Tag:noindex
X-PUBLISHED-TTL:PT1H
BEGIN:VTIMEZONE
TZID:America/Los_Angeles
BEGIN:DAYLIGHT
TZOFFSETFROM:-0800
TZOFFSETTO:-0700
TZNAME:PDT
DTSTART:20240310T100000
END:DAYLIGHT
BEGIN:STANDARD
TZOFFSETFROM:-0700
TZOFFSETTO:-0800
TZNAME:PST
DTSTART:20241103T090000
END:STANDARD
END:VTIMEZONE
BEGIN:VEVENT
DTSTART;TZID=America/Los_Angeles:20240918T120000
DTEND;TZID=America/Los_Angeles:20240918T220000
DTSTAMP:20260421T012716
CREATED:20240922T025144Z
LAST-MODIFIED:20240926T043411Z
UID:10005238-1726660800-1726696800@liveinthebay.com
SUMMARY:California's Great America Oktoberfest
DESCRIPTION:Experience the excitement of Germany’s iconic Oktoberfest right here at California's Great America! This latest addition to the park's incredible lineup of fall events features authentic German food\, drinks\, lively music\, and fun-filled entertainment for all ages. Plus\, with the park’s top rides open during the festivities\, Oktoberfest promises to be a can’t-miss event for the entire family. \nMore information at California's Great America.
URL:https://liveinthebay.com/event/californias-great-america-oktoberfest/2024-09-18/
LOCATION:California's Great America\, 4701 Great America Pkwy\, Santa Clara\, CA\, 95054
END:VEVENT
BEGIN:VEVENT
DTSTART;TZID=America/Los_Angeles:20240918T193000
DTEND;TZID=America/Los_Angeles:20240918T213000
DTSTAMP:20260421T012716
CREATED:20240903T143814Z
LAST-MODIFIED:20240928T031640Z
UID:10005200-1726687800-1726695000@liveinthebay.com
SUMMARY:The Mountain Winery 2024 Concert Series
DESCRIPTION:The Mountain Winery Concert Series in Saratoga features a diverse lineup of music and comedy acts in a scenic outdoor venue. This fall\, enjoy performances from OneRepublic\, country star Clint Black\, and a Led Zeppelin tribute band. Comedy fans can catch Kings of Late Night\, with Jay Leno\, Arsenio Hall\, and Craig Ferguson delivering laughs. The series promises a variety of genres\, from rock to jazz\, all performed in a scenic hillside location overlooking the Silicon Valley. Perfect for a memorable night of music under the stars. \nFor more details\, check out the full lineup and schedule at the venue’s website.
URL:https://liveinthebay.com/event/the-mountain-winery-2024-concert-series/2024-09-18/
LOCATION:The Mountain Winery\, 14831 Pierce Road\, Saratoga\, 95070
END:VEVENT
END:VCALENDAR