BEGIN:VCALENDAR
VERSION:2.0
PRODID:-//Silicon Valley Realtor Nancy Dinshaw - ECPv6.14.1//NONSGML v1.0//EN
CALSCALE:GREGORIAN
METHOD:PUBLISH
X-WR-CALNAME:Silicon Valley Realtor Nancy Dinshaw
X-ORIGINAL-URL:https://liveinthebay.com
X-WR-CALDESC:Events for Silicon Valley Realtor Nancy Dinshaw
REFRESH-INTERVAL;VALUE=DURATION:PT1H
X-Robots-Tag:noindex
X-PUBLISHED-TTL:PT1H
BEGIN:VTIMEZONE
TZID:America/Los_Angeles
BEGIN:DAYLIGHT
TZOFFSETFROM:-0800
TZOFFSETTO:-0700
TZNAME:PDT
DTSTART:20250309T100000
END:DAYLIGHT
BEGIN:STANDARD
TZOFFSETFROM:-0700
TZOFFSETTO:-0800
TZNAME:PST
DTSTART:20251102T090000
END:STANDARD
END:VTIMEZONE
BEGIN:VEVENT
DTSTART;TZID=America/Los_Angeles:20250709T080000
DTEND;TZID=America/Los_Angeles:20250709T220000
DTSTAMP:20260423T043453
CREATED:20250701T103408Z
LAST-MODIFIED:20250701T103408Z
UID:10007766-1752048000-1752098400@liveinthebay.com
SUMMARY:Dine Downtown San Jose
DESCRIPTION:Take a tasty food trip around downtown San Jose during this 11-day event. Local restaurants will be offering special menus and dishes you won’t find every day. Whether you want something fancy\, fun\, or just really good\, there’s something here for everyone. It’s also a great reason to check out the downtown area. For more information\, click here.
URL:https://liveinthebay.com/event/dine-downtown-san-jose/2025-07-09/
LOCATION:Downtown San Jose\, 70 S Almaden Ave\, San Jose\, CA\, 95113
END:VEVENT
BEGIN:VEVENT
DTSTART;TZID=America/Los_Angeles:20250709T180000
DTEND;TZID=America/Los_Angeles:20250709T203000
DTSTAMP:20260423T043453
CREATED:20250701T111900Z
LAST-MODIFIED:20250701T111900Z
UID:10007777-1752084000-1752093000@liveinthebay.com
SUMMARY:26th Annual Sunnyvale Summer Series Music & Market
DESCRIPTION:Transform Wednesday nights into your weekly summer ritual with this vibrant music and market series. Stroll through Sunnyvale's downtown\, sip local brews\, browse artisan booths\, and relax to live performances under string lights. It’s the perfect midweek chance to unwind\, connect with friends\, and support local makers—all in a lively\, safe outdoor atmosphere. For more information\, click here.
URL:https://liveinthebay.com/event/26th-annual-sunnyvale-summer-series-music-market/2025-07-09/
LOCATION:Downtown Sunnyvale\, 192 S. Murphy Ave.\, Sunnyvale\, CA\, 94086
END:VEVENT
END:VCALENDAR