BEGIN:VCALENDAR
VERSION:2.0
PRODID:-//Silicon Valley Realtor Nancy Dinshaw - ECPv6.14.1//NONSGML v1.0//EN
CALSCALE:GREGORIAN
METHOD:PUBLISH
X-WR-CALNAME:Silicon Valley Realtor Nancy Dinshaw
X-ORIGINAL-URL:https://liveinthebay.com
X-WR-CALDESC:Events for Silicon Valley Realtor Nancy Dinshaw
REFRESH-INTERVAL;VALUE=DURATION:PT1H
X-Robots-Tag:noindex
X-PUBLISHED-TTL:PT1H
BEGIN:VTIMEZONE
TZID:America/Los_Angeles
BEGIN:DAYLIGHT
TZOFFSETFROM:-0800
TZOFFSETTO:-0700
TZNAME:PDT
DTSTART:20250309T100000
END:DAYLIGHT
BEGIN:STANDARD
TZOFFSETFROM:-0700
TZOFFSETTO:-0800
TZNAME:PST
DTSTART:20251102T090000
END:STANDARD
END:VTIMEZONE
BEGIN:VEVENT
DTSTART;TZID=America/Los_Angeles:20250905T160000
DTEND;TZID=America/Los_Angeles:20250905T210000
DTSTAMP:20260422T190837
CREATED:20250827T012103Z
LAST-MODIFIED:20250827T012103Z
UID:10007892-1757088000-1757106000@liveinthebay.com
SUMMARY:TREBA Night Market 2025
DESCRIPTION:Kick off the late-summer vibe at the inaugural TREBA Night Market\, a collaborative opening between the Tully Road Eastridge Business Association\, San José Made\, and Moveable Feast. Expect a flavorful carnival of street food booths\, specialty drinks\, desserts\, and artisan makers\, all set to live entertainment and community performances curated by the Vietnamese American Roundtable. A total feast for the senses without costing a cent. For more information\, click here.
URL:https://liveinthebay.com/event/treba-night-market-2025/2025-09-05/
LOCATION:Eastridge Center\, 2200 Eastridge Loop\, San Jose\, CA\, 95122
END:VEVENT
BEGIN:VEVENT
DTSTART;TZID=America/Los_Angeles:20250905T180000
DTEND;TZID=America/Los_Angeles:20250905T193000
DTSTAMP:20260422T190837
CREATED:20250829T021035Z
LAST-MODIFIED:20250829T033711Z
UID:10007907-1757095200-1757100600@liveinthebay.com
SUMMARY:Concerts on the Plaza
DESCRIPTION:Concerts on the Plaza is a free summer music series hosted at Civic Center Plaza (500 Castro Street) in downtown Mountain View. In 2025\, the event returns with sixteen live performances held Friday evenings from 6:00–7:30 p.m.\, running weekly from June through September. \nEach week features a different band spanning styles like Pop/R&B/Rock\, Classic Rock\, Jazz-Funk\, Latin tribute\, and more—creating a fun\, dance-friendly atmosphere for families\, friends\, and neighbors. The series combines lively music\, community spirit\, and outdoor enjoyment—perfect for making summer memories together. \nJun 6 — Vybe Society (Pop / R&B / Rock)Jun 13 — Livewire (’70s & ’80s Rock / Dance Hits)Jun 20 — The Real Thang (’60s–’80s Rock / Funk)Jun 27 — Misspent Youth (Classic Rock) \nJul 4 — No Performance (Holiday)Jul 11 — East Side Funk (Original Jazz-Funk)Jul 18 — Daze On the Green (Party Cover Band)Jul 25 — Dolce Musica (R&B / Soul) \nAug 1 — Sounds of Selena (Latin Tribute Dance Band)Aug 8 — RPM Band (Rock ’n’ Roll Dance Music)Aug 15 — The China Cats (Grateful Dead Tribute Band)Aug 22 — The Houserockers (Rock & Soul Band)Aug 29 — False Bottom Band (Bluegrass / Rock / Country) \nSep 5 — The Peelers (Latest Hits Cover / Mashup Band)Sep 12 — Fog City Swampers (CCR / Rock)Sep 19 — The Wanderers (Classic / Modern Dance Rock)Sep 26 — The Drifting Cowboys (Hank Williams Tribute Band)
URL:https://liveinthebay.com/event/8375/2025-09-05/
LOCATION:Civic Center Plaza\, 500 Castro Street\, Mountain View\, CA\, 94041\, United States
END:VEVENT
END:VCALENDAR