BEGIN:VCALENDAR
VERSION:2.0
PRODID:-//Silicon Valley Realtor Nancy Dinshaw - ECPv6.14.1//NONSGML v1.0//EN
CALSCALE:GREGORIAN
METHOD:PUBLISH
X-ORIGINAL-URL:https://liveinthebay.com
X-WR-CALDESC:Events for Silicon Valley Realtor Nancy Dinshaw
REFRESH-INTERVAL;VALUE=DURATION:PT1H
X-Robots-Tag:noindex
X-PUBLISHED-TTL:PT1H
BEGIN:VTIMEZONE
TZID:America/Los_Angeles
BEGIN:DAYLIGHT
TZOFFSETFROM:-0800
TZOFFSETTO:-0700
TZNAME:PDT
DTSTART:20250309T100000
END:DAYLIGHT
BEGIN:STANDARD
TZOFFSETFROM:-0700
TZOFFSETTO:-0800
TZNAME:PST
DTSTART:20251102T090000
END:STANDARD
END:VTIMEZONE
BEGIN:VEVENT
DTSTART;TZID=America/Los_Angeles:20251119T193000
DTEND;TZID=America/Los_Angeles:20251119T213000
DTSTAMP:20260419T185737
CREATED:20250926T000507Z
LAST-MODIFIED:20250926T000507Z
UID:10008346-1763580600-1763587800@liveinthebay.com
SUMMARY:Bryan Adams
DESCRIPTION:Rock legend Bryan Adams brings his Roll With The Punches Tour to San Jose\, joined by Pat Benatar and Neil Giraldo. The night will be filled with iconic hits\, powerful vocals\, and the kind of timeless energy that has defined Adams’ career for decades. \nFor more information\, click here.
URL:https://liveinthebay.com/event/bryan-adams/
LOCATION:SAP Center\, 525 W Santa Clara St\, San Jose\, CA\, 95113
END:VEVENT
END:VCALENDAR