BEGIN:VCALENDAR
VERSION:2.0
PRODID:-//Silicon Valley Realtor Nancy Dinshaw - ECPv6.14.1//NONSGML v1.0//EN
CALSCALE:GREGORIAN
METHOD:PUBLISH
X-WR-CALNAME:Silicon Valley Realtor Nancy Dinshaw
X-ORIGINAL-URL:https://liveinthebay.com
X-WR-CALDESC:Events for Silicon Valley Realtor Nancy Dinshaw
REFRESH-INTERVAL;VALUE=DURATION:PT1H
X-Robots-Tag:noindex
X-PUBLISHED-TTL:PT1H
BEGIN:VTIMEZONE
TZID:America/Los_Angeles
BEGIN:DAYLIGHT
TZOFFSETFROM:-0800
TZOFFSETTO:-0700
TZNAME:PDT
DTSTART:20260308T100000
END:DAYLIGHT
BEGIN:STANDARD
TZOFFSETFROM:-0700
TZOFFSETTO:-0800
TZNAME:PST
DTSTART:20261101T090000
END:STANDARD
END:VTIMEZONE
BEGIN:VEVENT
DTSTART;TZID=America/Los_Angeles:20260430T100000
DTEND;TZID=America/Los_Angeles:20260430T170000
DTSTAMP:20260421T211319
CREATED:20260414T134900Z
LAST-MODIFIED:20260414T134900Z
UID:10010835-1777543200-1777568400@liveinthebay.com
SUMMARY:Springtime at Filoli
DESCRIPTION:Experience the peak of the spring bloom at one of California’s most famous estates. From the vibrant tulips and daffodils in April to the lush wisteria and roses in May\, the gardens are a constant parade of color. Special events include expert-led garden tours\, floral design workshops\, and the "In a Landscape" outdoor concert series. For more information\, click here.
URL:https://liveinthebay.com/event/springtime-at-filoli/2026-04-30/
LOCATION:Filoli\, 86 Cañada Road\, Woodside\, CA\, 94062
CATEGORIES:Spring
END:VEVENT
BEGIN:VEVENT
DTSTART;TZID=America/Los_Angeles:20260430T110000
DTEND;TZID=America/Los_Angeles:20260430T170000
DTSTAMP:20260421T211319
CREATED:20260414T140220Z
LAST-MODIFIED:20260414T140321Z
UID:10010904-1777546800-1777568400@liveinthebay.com
SUMMARY:Jeremy Frey: Woven
DESCRIPTION:This major solo exhibition is the first for seventh-generation Passamaquoddy basket maker and MacArthur Fellow Jeremy Frey. Featuring more than 30 intricately crafted baskets made from black ash and sweetgrass\, the show traces Frey's technical innovations and his role in revitalizing a historically endangered Wabanaki art form. \nSpecial Event Dates: \nEvening Curator Talk: May 28 @ 6:00 PM \nLunchtime Curator Talk: June 25 @ 12:00 PM \nEvening Curator Talk: July 16 @ 6:00 PM \nFor more information\, click here.
URL:https://liveinthebay.com/event/jeremy-frey-woven/2026-04-30/
LOCATION:Cantor Arts Center at Stanford University\, 328 Lomita Drive\, Stanford\, CA\, 94305
END:VEVENT
BEGIN:VEVENT
DTSTART;TZID=America/Los_Angeles:20260430T113000
DTEND;TZID=America/Los_Angeles:20260430T210000
DTSTAMP:20260421T211319
CREATED:20260414T134505Z
LAST-MODIFIED:20260414T134615Z
UID:10010815-1777548600-1777582800@liveinthebay.com
SUMMARY:Flavors of the Peninsula
DESCRIPTION:This massive 10-day culinary festival features over 100 participating restaurants across San Mateo County. Each location offers curated prix-fixe menus and unique experiences that highlight the Peninsula's diverse food scene. \n\nSignature Kick-off: Hosted at Camber in South San Francisco on April 23\, featuring tastings from top chefs and local wineries. \nCoastal Gathering: A beachside celebration at La Costanera in Half Moon Bay on May 1\, focusing on global coastal cuisine and local producers.\nParticipating Bayside & Coastside Eateries: You can find special menus at a wide variety of local favorites\, including Oak + Violet (Menlo Park)\, Mezza Luna (Princeton-by-the-Sea)\, Amara\, Mazra\, Twelvemonth\, and Pausa (San Mateo).\n\nRestaurant Week: Lunch and Dinner (varies by restaurant; typically 11:30 AM – 2:30 PM and 5:00 PM – 9:00 PM). \nFor a full list of participating restaurants and their specific daily hours\, for more information\, click here.
URL:https://liveinthebay.com/event/flavors-of-the-peninsula/2026-04-30/
LOCATION:Multiple Locations (Bayside to Coastside)
END:VEVENT
END:VCALENDAR