BEGIN:VCALENDAR
VERSION:2.0
PRODID:-//Silicon Valley Realtor Nancy Dinshaw - ECPv6.14.1//NONSGML v1.0//EN
CALSCALE:GREGORIAN
METHOD:PUBLISH
X-ORIGINAL-URL:https://liveinthebay.com
X-WR-CALDESC:Events for Silicon Valley Realtor Nancy Dinshaw
REFRESH-INTERVAL;VALUE=DURATION:PT1H
X-Robots-Tag:noindex
X-PUBLISHED-TTL:PT1H
BEGIN:VTIMEZONE
TZID:America/Los_Angeles
BEGIN:DAYLIGHT
TZOFFSETFROM:-0800
TZOFFSETTO:-0700
TZNAME:PDT
DTSTART:20250309T100000
END:DAYLIGHT
BEGIN:STANDARD
TZOFFSETFROM:-0700
TZOFFSETTO:-0800
TZNAME:PST
DTSTART:20251102T090000
END:STANDARD
END:VTIMEZONE
BEGIN:VEVENT
DTSTART;TZID=America/Los_Angeles:20250419T110000
DTEND;TZID=America/Los_Angeles:20250419T180000
DTSTAMP:20260421T173911
CREATED:20250304T082721Z
LAST-MODIFIED:20250304T082721Z
UID:10007672-1745060400-1745085600@liveinthebay.com
SUMMARY:57th Northern California Cherry Blossom Festival
DESCRIPTION:The 57th Annual Northern California Cherry Blossom Festival celebrates Japanese and Japanese American culture and heritage through vibrant performances\, delicious food\, and community traditions. This year is especially significant as it marks the final festival before the Peace Plaza undergoes renovations. The event also honors the legacy of Wayne Leong\, a beloved member of the Executive Committee. \nOrganized by a diverse team led by Co-Chairs Yuki Nishimura and Matt Nagatomi\, the festival thrives on the dedication of volunteers\, sponsors\, and community partners. Visitors can enjoy cultural performances\, nonprofit food vendors\, and the Grand Parade on April 21st. The festival welcomes all to join in this cherished celebration.
URL:https://liveinthebay.com/event/57th-northern-california-cherry-blossom-festival/2025-04-19/
LOCATION:Japantown Peace Plaza\, 1610 Geary Blvd\, San Francisco\, CA\, 94115
CATEGORIES:Cherry Blossom Festival,Spring
END:VEVENT
END:VCALENDAR