BEGIN:VCALENDAR
VERSION:2.0
PRODID:-//Silicon Valley Realtor Nancy Dinshaw - ECPv6.14.1//NONSGML v1.0//EN
CALSCALE:GREGORIAN
METHOD:PUBLISH
X-ORIGINAL-URL:https://liveinthebay.com
X-WR-CALDESC:Events for Silicon Valley Realtor Nancy Dinshaw
REFRESH-INTERVAL;VALUE=DURATION:PT1H
X-Robots-Tag:noindex
X-PUBLISHED-TTL:PT1H
BEGIN:VTIMEZONE
TZID:America/Los_Angeles
BEGIN:DAYLIGHT
TZOFFSETFROM:-0800
TZOFFSETTO:-0700
TZNAME:PDT
DTSTART:20220313T100000
END:DAYLIGHT
BEGIN:STANDARD
TZOFFSETFROM:-0700
TZOFFSETTO:-0800
TZNAME:PST
DTSTART:20221106T090000
END:STANDARD
END:VTIMEZONE
BEGIN:VEVENT
DTSTART;TZID=America/Los_Angeles:20221130T180000
DTEND;TZID=America/Los_Angeles:20221130T200000
DTSTAMP:20260422T221633
CREATED:20221124T044938Z
LAST-MODIFIED:20231124T045047Z
UID:10003306-1669831200-1669838400@liveinthebay.com
SUMMARY:Santana Row Snow Showers
DESCRIPTION:It’s snowing on The Row! Santana Row brings the North Pole to San Jose for a fun\, holiday celebration. Enjoy outdoor snow showers & holiday tunes every 30 minutes in Park Valencia in front of Maggiano’s. \nSnow Showers Dates \n\nEvery Wednesday & Saturday starting November 26 – December 19\, 6:00 pm – 8:00 pm\, every 30 minutes\nEvery Night December 19-23\, 6:00 pm – 8:00 pm\, every 30 minutes\n\nFor more information please contact the Santana Row Concierge at (408)551-4611. \n  \n 
URL:https://liveinthebay.com/event/santana-row-snow-showers-3/2022-11-30/
LOCATION:Santana Row\, 377 Santana Row\, San Jose\, CA\, 95128
CATEGORIES:Holiday
ATTACH;FMTTYPE=image/jpeg:https://liveinthebay.com/wp-content/uploads/2021/09/Snow.jpg
END:VEVENT
BEGIN:VEVENT
DTSTART;TZID=America/Los_Angeles:20221130T200000
DTEND;TZID=America/Los_Angeles:20221130T200000
DTSTAMP:20260422T221633
CREATED:20221128T232134Z
LAST-MODIFIED:20221129T043223Z
UID:10001370-1669838400-1669838400@liveinthebay.com
SUMMARY:Little Shop of Horrors
DESCRIPTION:Everybody's favorite carnivorous plant is ready to devour San Francisco's Chinatown in a reimagined production that lends this uproarious cult-classic musical a delicious local flavor! Follow meek florist Seymour Krelborn as he makes a Faustian bargain with the world's most vicious vegetation and learns that fame and fortune can come with a grisly price. From the iconic team behind Beauty and the Beast and The Little Mermaid\, it's sure to be a bloody good time! \nBook and Lyrics by Howard Ashman\, Music by Alan Menken\nBased on the film by Roger Corman\, Screenplay by Charles Griffith\nDirected by Jeffrey Lo \nPurchase tickets at TheatreWorks. \n 
URL:https://liveinthebay.com/event/little-shop-of-horrors/
LOCATION:Lucie Stern Theatre\, 1305 Middlefield Rd.\, Palo Alto\, CA\, 94301
CATEGORIES:Holiday
ATTACH;FMTTYPE=image/jpeg:https://liveinthebay.com/wp-content/uploads/2022/11/Events-Calendar-Little-Shop-of-Horrors.jpg
END:VEVENT
END:VCALENDAR