BEGIN:VCALENDAR
VERSION:2.0
PRODID:-//Silicon Valley Realtor Nancy Dinshaw - ECPv6.14.1//NONSGML v1.0//EN
CALSCALE:GREGORIAN
METHOD:PUBLISH
X-ORIGINAL-URL:https://liveinthebay.com
X-WR-CALDESC:Events for Silicon Valley Realtor Nancy Dinshaw
REFRESH-INTERVAL;VALUE=DURATION:PT1H
X-Robots-Tag:noindex
X-PUBLISHED-TTL:PT1H
BEGIN:VTIMEZONE
TZID:America/Los_Angeles
BEGIN:DAYLIGHT
TZOFFSETFROM:-0800
TZOFFSETTO:-0700
TZNAME:PDT
DTSTART:20240310T100000
END:DAYLIGHT
BEGIN:STANDARD
TZOFFSETFROM:-0700
TZOFFSETTO:-0800
TZNAME:PST
DTSTART:20241103T090000
END:STANDARD
END:VTIMEZONE
BEGIN:VEVENT
DTSTART;VALUE=DATE:20240421
DTEND;VALUE=DATE:20240422
DTSTAMP:20260424T010017
CREATED:20240317T135709Z
LAST-MODIFIED:20240318T214758Z
UID:10005107-1713686400-1713718800@liveinthebay.com
SUMMARY:Northern California Cherry Blossom Festival 2024
DESCRIPTION:The Northern California Cherry Blossom Festival® stands as one of California’s most prominent celebrations of Asian traditions\, and it holds the distinction of being the largest Cherry Blossom Festival on the West Coast. All individuals are invited to partake in the festivities\, where they can immerse themselves in the vibrant tapestry of Japanese and Japanese American culture\, now experienced in person once more. \nSupport for the Festival comes in various forms: individuals can contribute as sponsors\, volunteers\, or attendees of this beloved Japanese American community event. Notably\, the event remains free and accessible to the public. \nSince its inception in 1968\, the Festival has played a pivotal role in nurturing the enduring bond between Japan and the United States\, with culture serving as its cornerstone. Drawing in crowds exceeding 220\,000 annually\, the Festival showcases a spectacular array of colors and the graceful essence of Japanese culture\, while also highlighting the rich heritage and diversity of the Japanese American community. \nLearn more at the Northern California Cherry Blossom Festival website.
URL:https://liveinthebay.com/event/northern-california-cherry-blossom-festival-2024/2024-04-21/
LOCATION:Japantown Peace Plaza\, 1610 Geary Blvd\, San Francisco\, CA\, 94115
CATEGORIES:Cherry Blossom Festival,Spring
ATTACH;FMTTYPE=image/jpeg:https://liveinthebay.com/wp-content/uploads/2022/03/Northern-California-Cherry-Blossom-Festival.jpg
END:VEVENT
END:VCALENDAR