BEGIN:VCALENDAR
VERSION:2.0
PRODID:-//Silicon Valley Realtor Nancy Dinshaw - ECPv6.14.1//NONSGML v1.0//EN
CALSCALE:GREGORIAN
METHOD:PUBLISH
X-WR-CALNAME:Silicon Valley Realtor Nancy Dinshaw
X-ORIGINAL-URL:https://liveinthebay.com
X-WR-CALDESC:Events for Silicon Valley Realtor Nancy Dinshaw
REFRESH-INTERVAL;VALUE=DURATION:PT1H
X-Robots-Tag:noindex
X-PUBLISHED-TTL:PT1H
BEGIN:VTIMEZONE
TZID:America/Los_Angeles
BEGIN:DAYLIGHT
TZOFFSETFROM:-0800
TZOFFSETTO:-0700
TZNAME:PDT
DTSTART:20230312T100000
END:DAYLIGHT
BEGIN:STANDARD
TZOFFSETFROM:-0700
TZOFFSETTO:-0800
TZNAME:PST
DTSTART:20231105T090000
END:STANDARD
END:VTIMEZONE
BEGIN:VEVENT
DTSTART;TZID=America/Los_Angeles:20230317T180000
DTEND;TZID=America/Los_Angeles:20230317T210000
DTSTAMP:20260423T084719
CREATED:20230220T055319Z
LAST-MODIFIED:20230315T035832Z
UID:10001559-1679076000-1679086800@liveinthebay.com
SUMMARY:2023 Downtown Los Altos St. Paddy's Beer Stroll
DESCRIPTION:Stroll Downtown Los Altos while sampling some of the area’s best craft beers and enjoying live music during the St. Paddy’s Beer Stroll\, Friday\, March 17\, 2023 from 6 – 9 pm. \nPresented by the Los Altos Village Association and sponsored by HyperSpace Los Altos and State of Mind Pizzeria & Public House. \n  \nFees/Admission: $40 - $50. Purchase Tickets Online.
URL:https://liveinthebay.com/event/2023-downtown-los-altos-st-paddys-beer-stroll/
LOCATION:Downtown Los Altos\, Main and State Streets\, Los Altos\, CA\, 94022\, United States
CATEGORIES:Spring,St Patrick's Day
ATTACH;FMTTYPE=image/jpeg:https://liveinthebay.com/wp-content/uploads/2023/02/St-Paddy-Day.jpg
END:VEVENT
END:VCALENDAR